BEGIN:VCALENDAR
VERSION:2.0
PRODID:-//Biodiversité sous nos pieds - ECPv6.15.12.2//NONSGML v1.0//EN
CALSCALE:GREGORIAN
METHOD:PUBLISH
X-WR-CALNAME:Biodiversité sous nos pieds
X-ORIGINAL-URL:https://biodiversitesousnospieds.fr
X-WR-CALDESC:Évènements pour Biodiversité sous nos pieds
REFRESH-INTERVAL;VALUE=DURATION:PT1H
X-Robots-Tag:noindex
X-PUBLISHED-TTL:PT1H
BEGIN:VTIMEZONE
TZID:UTC
BEGIN:STANDARD
TZOFFSETFROM:+0000
TZOFFSETTO:+0000
TZNAME:UTC
DTSTART:20220101T000000
END:STANDARD
END:VTIMEZONE
BEGIN:VEVENT
DTSTART;TZID=UTC:20230915T191500
DTEND;TZID=UTC:20230915T210000
DTSTAMP:20260421T122012
CREATED:20230908T101638Z
LAST-MODIFIED:20240604T131622Z
UID:1722-1694805300-1694811600@biodiversitesousnospieds.fr
SUMMARY:Conférence - L'encadrement juridique des pesticides : quelle protection pour la biodiversité ?
DESCRIPTION:Retour sur la décision du Tribunal administratif de Paris du 29 juin 2023 Justice pour le vivant condamnant l’Etat pour plusieurs préjudices écologiques.\n\n 	Par Dorian Guinard\, Maître de conférence en droit public à l’UGA-Sc Po Grenoble\, membre de Biodiversité sous nos pieds.\n 	Lieu : Muséum de Grenoble\n 	Le 15 septembre à 19h15\n\nRetrouvez les communiqués de presse sur la décision ici et sur les raisons qui poussent les 5 ONG à faire appel de cette décision ici.
URL:https://biodiversitesousnospieds.fr/evenement/conference-lencadrement-juridique-des-pesticides-quelle-protection-pour-la-biodiversite-2/
LOCATION:Muséum de Grenoble\, 1 Rue Dolomieu\, Grenoble\, 38000
ATTACH;FMTTYPE=image/jpeg:https://biodiversitesousnospieds.fr/wp-content/uploads/2023/09/Affiche_Conference_GUINARD_1509_.jpg
END:VEVENT
END:VCALENDAR