BEGIN:VCALENDAR
VERSION:2.0
PRODID:-//Biodiversité sous nos pieds - ECPv6.15.12.2//NONSGML v1.0//EN
CALSCALE:GREGORIAN
METHOD:PUBLISH
X-WR-CALNAME:Biodiversité sous nos pieds
X-ORIGINAL-URL:https://biodiversitesousnospieds.fr
X-WR-CALDESC:Évènements pour Biodiversité sous nos pieds
REFRESH-INTERVAL;VALUE=DURATION:PT1H
X-Robots-Tag:noindex
X-PUBLISHED-TTL:PT1H
BEGIN:VTIMEZONE
TZID:UTC
BEGIN:STANDARD
TZOFFSETFROM:+0000
TZOFFSETTO:+0000
TZNAME:UTC
DTSTART:20210101T000000
END:STANDARD
END:VTIMEZONE
BEGIN:VEVENT
DTSTART;TZID=UTC:20221129T190000
DTEND;TZID=UTC:20221129T213000
DTSTAMP:20260424T000603
CREATED:20221015T140046Z
LAST-MODIFIED:20240604T131619Z
UID:1289-1669748400-1669757400@biodiversitesousnospieds.fr
SUMMARY:Conférence - L'encadrement juridique des pesticides : quelle protection pour la biodiversité ?
DESCRIPTION:☀️ Conférence-débats : L’encadrement juridique des pesticides\, quelles protections pour la biodiversité \n mardi 29 novembre 2022 de 18h45 à 21h00\, au Couvent des Minimes à Grenoble. \nBiodiversité sous nos pieds joue un rôle dans la lutte contre les pesticides toxiques ou mal évalués. \nNous avons mené plusieurs actions : \n\n\n 	une “contribution extérieure » adressée au Conseil Constitutionnel contre la réintroduction des néonicotinoïdes pour les betteraves sucrièresen décembre 2020.\n 	Ainsi qu’un recours national avec “Justice Pour le Vivant”\, qui a pour but de faire évoluer les autorisations de mise sur le marché des pesticides\, en obtenant de l’Etat une réévaluation générale de ces produits et pallier les carences des protocoles d’évaluation.\n\n► Pour nous en parler : \nDorian Guinard\, enseignant-Chercheur\, Maître de conférences en droit public à Sciences Po Grenoble et membre de l’association Biodiversité sous nos pieds. Avec Pierre Mienville\, secrétaire de l’association Biodiversité sous nos pieds. Ils nous feront part de leur expertise juridique dans le domaine des pesticides pour nous exposer leur danger et l’importance du droit pour les encadrer. \n► Programme de la soirée :\n18h50 : Ouverture des portes\n19h : début de la conférence\n20h : temps de questions/réponses avec les intervenants \n  Inscription obligatoire – prix libre* : billetweb.fr/encadrement-pesticides \nInformations pratiques :\nCour Marcel Reymond\, rue des Minimes\, Grenoble\nminimes.space/evenement/encadrement-pesticides/\nbesoin d’aide ou de renseignements : jeanne@minimes.space \n* tu peux mettre combien tu veux\, combien tu peux !
URL:https://biodiversitesousnospieds.fr/evenement/conference-lencadrement-juridique-des-pesticides-quelle-protection-pour-la-biodiversite/
LOCATION:Les Minimes – Cour Marcel Reymond\, 1 rue des Minimes\, Grenoble\, 38000\, France
ATTACH;FMTTYPE=image/jpeg:https://biodiversitesousnospieds.fr/wp-content/uploads/2022/10/Affiche-conference-29nov22.jpg
END:VEVENT
END:VCALENDAR