BEGIN:VCALENDAR
VERSION:2.0
PRODID:-//Biodiversité sous nos pieds - ECPv6.15.12.2//NONSGML v1.0//EN
CALSCALE:GREGORIAN
METHOD:PUBLISH
X-WR-CALNAME:Biodiversité sous nos pieds
X-ORIGINAL-URL:https://biodiversitesousnospieds.fr
X-WR-CALDESC:Évènements pour Biodiversité sous nos pieds
REFRESH-INTERVAL;VALUE=DURATION:PT1H
X-Robots-Tag:noindex
X-PUBLISHED-TTL:PT1H
BEGIN:VTIMEZONE
TZID:UTC
BEGIN:STANDARD
TZOFFSETFROM:+0000
TZOFFSETTO:+0000
TZNAME:UTC
DTSTART:20220101T000000
END:STANDARD
END:VTIMEZONE
BEGIN:VEVENT
DTSTART;TZID=UTC:20231016T184500
DTEND;TZID=UTC:20231016T210000
DTSTAMP:20260421T092737
CREATED:20231012T152623Z
LAST-MODIFIED:20240604T131618Z
UID:1758-1697481900-1697490000@biodiversitesousnospieds.fr
SUMMARY:Réunion de rentrée de BSNP
DESCRIPTION:Les bénévoles de BSNP vous donnent rdv pour venir discuter de nos actions en cours et du futur de l’association ! C’est l’occasion de nous rencontrer\, d’échanger et également d’adhérer à l’association pour l’année à venir ! \n\nPetit rappel des actions juridiques en cours : \n\n 	Plusieurs recours contre des projets d’aménagement (carrières\, infrastructures de stations de ski) ne respectant pas le droit des espèces protégés\n 	Recours Justice pour le Vivant : 1ère action en justice contre un Etat pour son inaction face à l’effondrement de la biodiversité\, notamment lié aux insuffisances des AMM des pesticides dans l’évaluation des risques pour la biodiversité.\n\n\nComment vous impliquer dans BSNP ?\n\n 	Aider à la construction des recours administratifs\n 	Décortiquer les études d’impact des projets que l’on attaque\n 	Booster la communication : gérer les réseaux sociaux\, le site internet\, démarcher les médias\, organiser pleins d’évènements\n 	Faire de la veille scientifique (écologie\, éco-toxicologie\, hydrologie\, géologie\, botanique\, etc.)\n 	Nous soutenir financièrement\n\n \nOn vous attend nombreux !\nL’équipe de BSNP
URL:https://biodiversitesousnospieds.fr/evenement/reunion-de-rentree-de-bsnp/
LOCATION:Bar le Trankilou\, 48 boulevard Joseph Vallier\, Grenoble\, France
ATTACH;FMTTYPE=image/jpeg:https://biodiversitesousnospieds.fr/wp-content/uploads/2023/10/1.jpg
END:VEVENT
BEGIN:VEVENT
DTSTART;TZID=UTC:20241104T190000
DTEND;TZID=UTC:20241104T203000
DTSTAMP:20260421T092737
CREATED:20241017T095850Z
LAST-MODIFIED:20241105T152453Z
UID:2247-1730746800-1730752200@biodiversitesousnospieds.fr
SUMMARY:[4/11/2024] Assemblée générale 2024-2025 de BSNP
DESCRIPTION:L’équipe de BSNP vous donne rdv pour venir discuter de nos actions en cours et du futur de l’association ! C’est l’occasion de nous rencontrer\, d’échanger et également d’adhérer à l’association pour l’année à venir !\n\n\n\n\n\n\n\nLieu et horaire\n\n\n\nLundi 4 novembre de 19h00 à 20h30 \n\n\n\n\nau Minimistan (ancien Couvent des Minimes\, rue des Minimes\, Cour Marcel Reymond\, 38000 Grenoble).\n\n\n\nen ligne : https://bit.ly/3C3VUT5 \n\n\n\n\nPetit rappel des actions juridiques en cours : \n\n\n\n\nPlusieurs recours contre des projets d’aménagement\, ne respectant pas le droit des espèces protégées\, sont toujours en cours : La Grave\, Tignes\, Megève\, Morzine. Nous reviendrons sur l’avancement de ces 4 dossiers.\n\n\n\nRecours Justice pour le Vivant : 1ère action en justice contre un Etat pour son inaction face à l’effondrement de la biodiversité\, notamment liée aux insuffisances des AMM (autorisations de mise sur le marché) des pesticides dans l’évaluation des risques pour la biodiversité. Nous reviendrons aussi sur l’Agri Vélo Tour de cet été !\n\n\n\n\nComment vous impliquer dans BSNP ?\n\n\n\n\nAider à la construction des recours administratifs\n\n\n\nDécortiquer les études d’impact des projets que l’on attaque\n\n\n\nBooster la communication : gérer les réseaux sociaux\, le site internet\, démarcher les médias\, organiser pleins d’évènements\n\n\n\nFaire de la veille scientifique (écologie\, éco-toxicologie\, hydrologie\, géologie\, botanique\, etc.)\n\n\n\nNous soutenir financièrement\n\n\n\n\n\nRetrouver nos appels à bénévoles et adhérer\n\n\n\n\n\n\n\n\nOn vous attend nombreuses et nombreux ! \n\n\n\n\nL’équipe de BSNP
URL:https://biodiversitesousnospieds.fr/evenement/assemblee-generale-2024-2025/
ATTACH;FMTTYPE=image/jpeg:https://biodiversitesousnospieds.fr/wp-content/uploads/2024/10/1.jpg
END:VEVENT
END:VCALENDAR